BEGIN:VCALENDAR
VERSION:2.0
PRODID:-//eventon.com NONSGML v1.0//EN
CALSCALE:GREGORIAN
METHOD:PUBLISH
BEGIN:VEVENT
UID:69eb3de02b036
DTSTAMP:20260424T095440Z
DTSTART:20250912T100000Z
DTEND:20250912T143000Z
LOCATION:
SUMMARY:Square Amersfoort
DESCRIPTION:SQUARE bij&nbsp;The Flintstones in Amersfoort We dansen op elke
  2e zondag van de maand. Data8 februari\,  8 maart\,  29 maart (Plus) 12 ap
 ril\,  10 mei\,  31 mei (Plus) en 14 juniTijd12.00 tot 16.30 uur. Inloop va
 naf 11.30 uurPlaatsBasisschool ‘Kameleon’\,  Stradivariusstraat 159\,  
 3822 DP Amersfoort\,  10 à 12 minuten lopen vanaf[..]\nhttps://nvs-dance.n
 l/events/square-amersfoort/
URL:https://nvs-dance.nl/events/square-amersfoort/
END:VEVENT
END:VCALENDAR