BEGIN:VCALENDAR
VERSION:2.0
PRODID:-//eventon.com NONSGML v1.0//EN
CALSCALE:GREGORIAN
METHOD:PUBLISH
BEGIN:VEVENT
UID:69eb3d17f2b7b
DTSTAMP:20260424T095119Z
DTSTART:20240920T180000Z
DTEND:20240920T203000Z
LOCATION:
SUMMARY:Engels Utrecht
DESCRIPTION:In het nieuwe seizoen 2024 – 2025 dansen we weer elke maand t
 ot en met juni. DataDe vrijdagavonden 26 september\,  7 november\,  12 dece
 mber\,  9 januari\,  13 februari\,  6 maart\,  10 april\,  8 mei en 5 juniT
 ijd20.00 tot 22.00 uurPlaatsSpeelzaal van de De Watertoren\,  Wezerdreef 3\
 ,  3562 BC UtrechtDansleiding&nbsp;&nbsp;Marieke van[..]\nhttps://nvs-dance
 .nl/events/engels-utrecht/
URL:https://nvs-dance.nl/events/engels-utrecht/
END:VEVENT
END:VCALENDAR