BEGIN:VCALENDAR
VERSION:2.0
PRODID:-//eventon.com NONSGML v1.0//EN
CALSCALE:GREGORIAN
METHOD:PUBLISH
BEGIN:VEVENT
UID:69eb3d8f0437f
DTSTAMP:20260424T095319Z
DTSTART:20260522T180000Z
DTEND:20260525T140000Z
LOCATION:
SUMMARY:Pinksterkamp 2026
DESCRIPTION:Data en tijdenVrijdag 22 mei 20.00 uur tot maandag 25 mei 16.00
  uur. Het kampeerterrein is open vanaf 13.00 uur.PlaatsKampeerboerderij ‘
 De Kastanjes’\,  Diepertseweg 22\,  5424 TA Elsendorp☎ 492 – 31 94 03
  KaartDansleidingEngels: Simone Verheyen en Wil van den BergSquare: Henri G
 oethalsZakelijke leidingNog niemand gevonden; wie meldt zich aan? KostenNVS
 -ledenniet-ledenvanaf[..]\nhttps://nvs-dance.nl/events/nvs-pinksterkamp-202
 6/
URL:https://nvs-dance.nl/events/nvs-pinksterkamp-2026/
END:VEVENT
END:VCALENDAR