BEGIN:VCALENDAR
VERSION:2.0
PRODID:-//eventon.com NONSGML v1.0//EN
CALSCALE:GREGORIAN
METHOD:PUBLISH
BEGIN:VEVENT
UID:69eb3ee4e65ab
DTSTAMP:20260424T095900Z
DTSTART:20260725T140000Z
DTEND:20260801T090000Z
LOCATION:
SUMMARY:Zomerkamp 2026
DESCRIPTION:Data en tijdenZaterdag 25 juli 16.00 uur tot zaterdag 1 augustu
 s 10.00 uur. Het kampeerterrein is vanaf 13.00 uur voor ons toegankelijk. H
 et programma begint om 16.00 uur.PlaatsKampeerboerderij ‘De Haverkamp’\
 ,  Vierblokkenweg 3\,  7255 MZ Hengelo (GLD)&nbsp;KaartDansleiding:Engels: 
 Ivan AitkenSquare: Erik PluylaarRapper: René DuijveInternationaal: Karin B
 ellaartZakelijke leidingHanneke Tent en Emma KoningMuziekDries LansdorpZang
 Jorina[..]\nhttps://nvs-dance.nl/events/zomerkamp-2026/
URL:https://nvs-dance.nl/events/zomerkamp-2026/
END:VEVENT
END:VCALENDAR