BEGIN:VCALENDAR
VERSION:2.0
PRODID:-//eventon.com NONSGML v1.0//EN
CALSCALE:GREGORIAN
METHOD:PUBLISH
BEGIN:VEVENT
UID:69eb3ebce0c74
DTSTAMP:20260424T095820Z
DTSTART:20251208T190000Z
DTEND:20251208T210000Z
LOCATION:
SUMMARY:Engels Eindhoven
DESCRIPTION:ENGELS bij Vodawiko in EINDHOVEN Vodawiko danst wekelijks op ma
 andagavond met uitzondering van feestdagen en zomer- en kerstvakantie. Tijd
 20.00 tot 22.00 uurPlaatsWijkcentrum De Werf\, &nbsp;Van der Werffstraat&nb
 sp;14\,  5622 KB Eindhoven&nbsp;&nbsp;KaartDansleidingToos Heesakkers\,  Mo
 nica Middel\,  Simone Verheyen (afwisselend)Data instuif-avondenniet-leden 
 zijn altijd welkom op onze maandelijkse instuifavonden:08 december 20255 ja
 nuari 20269 februari9 maart13 april11[..]\nhttps://nvs-dance.nl/events/enge
 ls-eindhoven/
URL:https://nvs-dance.nl/events/engels-eindhoven/
END:VEVENT
END:VCALENDAR