BEGIN:VCALENDAR
VERSION:2.0
PRODID:-//eventon.com NONSGML v1.0//EN
CALSCALE:GREGORIAN
METHOD:PUBLISH
BEGIN:VEVENT
UID:69eb3d3b4835b
DTSTAMP:20260424T095155Z
DTSTART:20250916T110000Z
DTEND:20250916T130000Z
LOCATION:
SUMMARY:Engels Rijswijk
DESCRIPTION:De Hofstaddansers dansen op de derde dinsdag van de maand van s
 eptember tot en met mei. Data16 september\,  21 oktober\,  18 november\,  1
 6 december\,  20 januari 2026\,  17 februari\,  17 maart\,  21 april en 19 
 meiTijdVan 13.00 tot 15.00 uurPlaatsWijkcentrum Stervoorde. Dr. H.J. van Mo
 oklaan 1\,  2286 BA Rijswijk. KaartMet[..]\nhttps://nvs-dance.nl/events/eng
 els-rijswijk/
URL:https://nvs-dance.nl/events/engels-rijswijk/
END:VEVENT
END:VCALENDAR